BEGIN:VCALENDAR
VERSION:2.0
PRODID:-//Spencer Main Street - ECPv6.15.20//NONSGML v1.0//EN
CALSCALE:GREGORIAN
METHOD:PUBLISH
X-WR-CALNAME:Spencer Main Street
X-ORIGINAL-URL:https://spencermainstreet.com
X-WR-CALDESC:Events for Spencer Main Street
REFRESH-INTERVAL;VALUE=DURATION:PT1H
X-Robots-Tag:noindex
X-PUBLISHED-TTL:PT1H
BEGIN:VTIMEZONE
TZID:America/Chicago
BEGIN:DAYLIGHT
TZOFFSETFROM:-0600
TZOFFSETTO:-0500
TZNAME:CDT
DTSTART:20170312T080000
END:DAYLIGHT
BEGIN:STANDARD
TZOFFSETFROM:-0500
TZOFFSETTO:-0600
TZNAME:CST
DTSTART:20171105T070000
END:STANDARD
BEGIN:DAYLIGHT
TZOFFSETFROM:-0600
TZOFFSETTO:-0500
TZNAME:CDT
DTSTART:20180311T080000
END:DAYLIGHT
BEGIN:STANDARD
TZOFFSETFROM:-0500
TZOFFSETTO:-0600
TZNAME:CST
DTSTART:20181104T070000
END:STANDARD
BEGIN:DAYLIGHT
TZOFFSETFROM:-0600
TZOFFSETTO:-0500
TZNAME:CDT
DTSTART:20190310T080000
END:DAYLIGHT
BEGIN:STANDARD
TZOFFSETFROM:-0500
TZOFFSETTO:-0600
TZNAME:CST
DTSTART:20191103T070000
END:STANDARD
END:VTIMEZONE
BEGIN:VEVENT
DTSTART;TZID=America/Chicago:20180712T170000
DTEND;TZID=America/Chicago:20180712T200000
DTSTAMP:20260425T200119
CREATED:20180406T215136Z
LAST-MODIFIED:20180709T163938Z
UID:435-1531414800-1531425600@spencermainstreet.com
SUMMARY:Main Street Market
DESCRIPTION:In conjunction with SPACE (Spencer Alliance for A Creative Economy)\, Main Street Market is held for 5 consecutive Thursday evenings on the Clay County Courthouse Lawn from 5-8pm. The band starts at 6pm.\nJuly 12th: Itty Bitty Boji Band\nJuly 19th: South 71 Acoustic Trio\nJuly 26th: Davis Family Band\nAugust 2nd: Amber Norgaard\nAugust 9th: Spencer Municipal Band
URL:https://spencermainstreet.com/event/435/
ATTACH;FMTTYPE=image/jpeg:https://spencermainstreet.com/wp-content/uploads/2017/01/msm.jpg
END:VEVENT
END:VCALENDAR