BEGIN:VCALENDAR
VERSION:2.0
PRODID:-//Spencer Main Street - ECPv6.15.20//NONSGML v1.0//EN
CALSCALE:GREGORIAN
METHOD:PUBLISH
X-WR-CALNAME:Spencer Main Street
X-ORIGINAL-URL:https://spencermainstreet.com
X-WR-CALDESC:Events for Spencer Main Street
REFRESH-INTERVAL;VALUE=DURATION:PT1H
X-Robots-Tag:noindex
X-PUBLISHED-TTL:PT1H
BEGIN:VTIMEZONE
TZID:America/Chicago
BEGIN:DAYLIGHT
TZOFFSETFROM:-0600
TZOFFSETTO:-0500
TZNAME:CDT
DTSTART:20170312T080000
END:DAYLIGHT
BEGIN:STANDARD
TZOFFSETFROM:-0500
TZOFFSETTO:-0600
TZNAME:CST
DTSTART:20171105T070000
END:STANDARD
BEGIN:DAYLIGHT
TZOFFSETFROM:-0600
TZOFFSETTO:-0500
TZNAME:CDT
DTSTART:20180311T080000
END:DAYLIGHT
BEGIN:STANDARD
TZOFFSETFROM:-0500
TZOFFSETTO:-0600
TZNAME:CST
DTSTART:20181104T070000
END:STANDARD
BEGIN:DAYLIGHT
TZOFFSETFROM:-0600
TZOFFSETTO:-0500
TZNAME:CDT
DTSTART:20190310T080000
END:DAYLIGHT
BEGIN:STANDARD
TZOFFSETFROM:-0500
TZOFFSETTO:-0600
TZNAME:CST
DTSTART:20191103T070000
END:STANDARD
END:VTIMEZONE
BEGIN:VEVENT
DTSTART;TZID=America/Chicago:20181202T120000
DTEND;TZID=America/Chicago:20181202T141500
DTSTAMP:20260425T110609
CREATED:20180508T150928Z
LAST-MODIFIED:20181115T180025Z
UID:461-1543752000-1543760100@spencermainstreet.com
SUMMARY:Gingerbread Kingdom
DESCRIPTION:Gingerbread Kingdom is the perfect activity for the little ones this Holiday Season on Sunday\, December 2nd. Children (and an adult helper) ages Pre K – 2nd grade can decorate their very own mini-gingerbread house and take it home. All the materials will be provided. We have 3 time slots\, but space is limited so you have to register ahead of time. Same location as last year: Spencer Area Activity Center (old Middle School). Happy Decorating!\nhttps://goalkick.wufoo.com/forms/spencer-main-street-gingerbread-kingdom-2018/\n\n 
URL:https://spencermainstreet.com/event/gingerbread-kingdom-2/
ATTACH;FMTTYPE=image/jpeg:https://spencermainstreet.com/wp-content/uploads/2018/05/gingerbread.jpg
END:VEVENT
END:VCALENDAR