BEGIN:VCALENDAR
VERSION:2.0
PRODID:-//Spencer Main Street - ECPv6.15.20//NONSGML v1.0//EN
CALSCALE:GREGORIAN
METHOD:PUBLISH
X-WR-CALNAME:Spencer Main Street
X-ORIGINAL-URL:https://spencermainstreet.com
X-WR-CALDESC:Events for Spencer Main Street
REFRESH-INTERVAL;VALUE=DURATION:PT1H
X-Robots-Tag:noindex
X-PUBLISHED-TTL:PT1H
BEGIN:VTIMEZONE
TZID:America/Chicago
BEGIN:DAYLIGHT
TZOFFSETFROM:-0600
TZOFFSETTO:-0500
TZNAME:CDT
DTSTART:20190310T080000
END:DAYLIGHT
BEGIN:STANDARD
TZOFFSETFROM:-0500
TZOFFSETTO:-0600
TZNAME:CST
DTSTART:20191103T070000
END:STANDARD
BEGIN:DAYLIGHT
TZOFFSETFROM:-0600
TZOFFSETTO:-0500
TZNAME:CDT
DTSTART:20200308T080000
END:DAYLIGHT
BEGIN:STANDARD
TZOFFSETFROM:-0500
TZOFFSETTO:-0600
TZNAME:CST
DTSTART:20201101T070000
END:STANDARD
BEGIN:DAYLIGHT
TZOFFSETFROM:-0600
TZOFFSETTO:-0500
TZNAME:CDT
DTSTART:20210314T080000
END:DAYLIGHT
BEGIN:STANDARD
TZOFFSETFROM:-0500
TZOFFSETTO:-0600
TZNAME:CST
DTSTART:20211107T070000
END:STANDARD
END:VTIMEZONE
BEGIN:VEVENT
DTSTART;TZID=America/Chicago:20200229T090000
DTEND;TZID=America/Chicago:20200229T170000
DTSTAMP:20260420T062846
CREATED:20200217T173323Z
LAST-MODIFIED:20200217T173334Z
UID:698-1582966800-1582995600@spencermainstreet.com
SUMMARY:Leap Year Sale!
DESCRIPTION:Make sure to hop downtown for our Leap Year Sale Saturday Feb. 29th. You’ll find 29% off in some stores \, drawings and lots of deals. Look for the frog poster on participating stores!!
URL:https://spencermainstreet.com/event/leap-year-sale/
ATTACH;FMTTYPE=image/png:https://spencermainstreet.com/wp-content/uploads/2020/02/Leap-Year-Sale-2020.png
END:VEVENT
END:VCALENDAR