BEGIN:VCALENDAR
VERSION:2.0
PRODID:-//Spencer Main Street - ECPv6.15.20//NONSGML v1.0//EN
CALSCALE:GREGORIAN
METHOD:PUBLISH
X-WR-CALNAME:Spencer Main Street
X-ORIGINAL-URL:https://spencermainstreet.com
X-WR-CALDESC:Events for Spencer Main Street
REFRESH-INTERVAL;VALUE=DURATION:PT1H
X-Robots-Tag:noindex
X-PUBLISHED-TTL:PT1H
BEGIN:VTIMEZONE
TZID:America/Chicago
BEGIN:DAYLIGHT
TZOFFSETFROM:-0600
TZOFFSETTO:-0500
TZNAME:CDT
DTSTART:20210314T080000
END:DAYLIGHT
BEGIN:STANDARD
TZOFFSETFROM:-0500
TZOFFSETTO:-0600
TZNAME:CST
DTSTART:20211107T070000
END:STANDARD
BEGIN:DAYLIGHT
TZOFFSETFROM:-0600
TZOFFSETTO:-0500
TZNAME:CDT
DTSTART:20220313T080000
END:DAYLIGHT
BEGIN:STANDARD
TZOFFSETFROM:-0500
TZOFFSETTO:-0600
TZNAME:CST
DTSTART:20221106T070000
END:STANDARD
BEGIN:DAYLIGHT
TZOFFSETFROM:-0600
TZOFFSETTO:-0500
TZNAME:CDT
DTSTART:20230312T080000
END:DAYLIGHT
BEGIN:STANDARD
TZOFFSETFROM:-0500
TZOFFSETTO:-0600
TZNAME:CST
DTSTART:20231105T070000
END:STANDARD
END:VTIMEZONE
BEGIN:VEVENT
DTSTART;TZID=America/Chicago:20220825T170000
DTEND;TZID=America/Chicago:20220825T190000
DTSTAMP:20260425T231406
CREATED:20220706T161901Z
LAST-MODIFIED:20220818T155754Z
UID:1066-1661446800-1661454000@spencermainstreet.com
SUMMARY:Ice Cream Social
DESCRIPTION:Join Spencer Main Street for a good old fashioned Ice Cream Social on Thursday evening August 25th. We will shut down Grand and West 5th from 5-7pm. There will be games\, facepainting\, and of course ice cream $1 a scoop~toppings free and you can add a famous Hy-Noon Kiwanis Cookie to your dish too! Thank you to Candice Getting and Modern Woodmen of America for sponsoring this event!
URL:https://spencermainstreet.com/event/ice-cream-social-3/
ATTACH;FMTTYPE=image/png:https://spencermainstreet.com/wp-content/uploads/2022/07/IceCreamSocial_Logo-w-Spencer-Reads.png
END:VEVENT
END:VCALENDAR