BEGIN:VCALENDAR
VERSION:2.0
PRODID:-//Spencer Main Street - ECPv6.15.20//NONSGML v1.0//EN
CALSCALE:GREGORIAN
METHOD:PUBLISH
X-WR-CALNAME:Spencer Main Street
X-ORIGINAL-URL:https://spencermainstreet.com
X-WR-CALDESC:Events for Spencer Main Street
REFRESH-INTERVAL;VALUE=DURATION:PT1H
X-Robots-Tag:noindex
X-PUBLISHED-TTL:PT1H
BEGIN:VTIMEZONE
TZID:America/Chicago
BEGIN:DAYLIGHT
TZOFFSETFROM:-0600
TZOFFSETTO:-0500
TZNAME:CDT
DTSTART:20210314T080000
END:DAYLIGHT
BEGIN:STANDARD
TZOFFSETFROM:-0500
TZOFFSETTO:-0600
TZNAME:CST
DTSTART:20211107T070000
END:STANDARD
BEGIN:DAYLIGHT
TZOFFSETFROM:-0600
TZOFFSETTO:-0500
TZNAME:CDT
DTSTART:20220313T080000
END:DAYLIGHT
BEGIN:STANDARD
TZOFFSETFROM:-0500
TZOFFSETTO:-0600
TZNAME:CST
DTSTART:20221106T070000
END:STANDARD
BEGIN:DAYLIGHT
TZOFFSETFROM:-0600
TZOFFSETTO:-0500
TZNAME:CDT
DTSTART:20230312T080000
END:DAYLIGHT
BEGIN:STANDARD
TZOFFSETFROM:-0500
TZOFFSETTO:-0600
TZNAME:CST
DTSTART:20231105T070000
END:STANDARD
END:VTIMEZONE
BEGIN:VEVENT
DTSTART;TZID=America/Chicago:20220919T060000
DTEND;TZID=America/Chicago:20220924T210000
DTSTAMP:20260425T162341
CREATED:20220909T211741Z
LAST-MODIFIED:20220909T213233Z
UID:1092-1663567200-1664053200@spencermainstreet.com
SUMMARY:Downtown Restaurant Week
DESCRIPTION:Let the Downtown Restaurants do what they do best~cook for you. Main Street is celebrating Restaurant Week September 19-24th. Every time you eat at a participating restaurant you can register to win a $20 gift card to that restaurant. We will draw winners from each restaurant at the end of the promotion. The GRAND prize winner gets a $20 gift card to ALL the participating restaurants!So don’t forget to register and tip your server. It pays to eat downtown!
URL:https://spencermainstreet.com/event/downtown-restaurant-week-3/
ATTACH;FMTTYPE=image/png:https://spencermainstreet.com/wp-content/uploads/2020/09/MSI-Restaurant-Week-2020.png
END:VEVENT
BEGIN:VEVENT
DTSTART;TZID=America/Chicago:20220924T100000
DTEND;TZID=America/Chicago:20220924T150000
DTSTAMP:20260425T162341
CREATED:20220809T215200Z
LAST-MODIFIED:20220809T215200Z
UID:1072-1664013600-1664031600@spencermainstreet.com
SUMMARY:Downtown Boutique Sip & Shop
DESCRIPTION:We are highlighting our unique boutiques in Downtown Spencer by hosting a Boutique Sip & Shop on Saturday\, September 24th from 10-3. You can pick up a punch card at any of the participating boutiques and while you are shopping you can have a complimentary beverage. If you go to all 6 stores\, you qualify to win a $25 gift card to one of the shops. So help us celebrate our locally owned businesses Kari’s\, Drivensole\, Belamour\, Pressed\, Miss Behavin Boutique and Edge Boutique’s Bonanza. \nMake sure to stop and shop and eat at all the other awesome places in downtown Spencer while you are here!!
URL:https://spencermainstreet.com/event/downtown-boutique-sip-shop/
ATTACH;FMTTYPE=image/jpeg:https://spencermainstreet.com/wp-content/uploads/2022/08/Sip-and-Shop.jpg
END:VEVENT
END:VCALENDAR