BEGIN:VCALENDAR
VERSION:2.0
PRODID:-//Spencer Main Street - ECPv6.15.20//NONSGML v1.0//EN
CALSCALE:GREGORIAN
METHOD:PUBLISH
X-WR-CALNAME:Spencer Main Street
X-ORIGINAL-URL:https://spencermainstreet.com
X-WR-CALDESC:Events for Spencer Main Street
REFRESH-INTERVAL;VALUE=DURATION:PT1H
X-Robots-Tag:noindex
X-PUBLISHED-TTL:PT1H
BEGIN:VTIMEZONE
TZID:America/Chicago
BEGIN:DAYLIGHT
TZOFFSETFROM:-0600
TZOFFSETTO:-0500
TZNAME:CDT
DTSTART:20210314T080000
END:DAYLIGHT
BEGIN:STANDARD
TZOFFSETFROM:-0500
TZOFFSETTO:-0600
TZNAME:CST
DTSTART:20211107T070000
END:STANDARD
BEGIN:DAYLIGHT
TZOFFSETFROM:-0600
TZOFFSETTO:-0500
TZNAME:CDT
DTSTART:20220313T080000
END:DAYLIGHT
BEGIN:STANDARD
TZOFFSETFROM:-0500
TZOFFSETTO:-0600
TZNAME:CST
DTSTART:20221106T070000
END:STANDARD
BEGIN:DAYLIGHT
TZOFFSETFROM:-0600
TZOFFSETTO:-0500
TZNAME:CDT
DTSTART:20230312T080000
END:DAYLIGHT
BEGIN:STANDARD
TZOFFSETFROM:-0500
TZOFFSETTO:-0600
TZNAME:CST
DTSTART:20231105T070000
END:STANDARD
END:VTIMEZONE
BEGIN:VEVENT
DTSTART;TZID=America/Chicago:20221017T080000
DTEND;TZID=America/Chicago:20221119T110000
DTSTAMP:20260425T194448
CREATED:20221010T151712Z
LAST-MODIFIED:20221010T151712Z
UID:1116-1665993600-1668855600@spencermainstreet.com
SUMMARY:Decorate a Planter Contest
DESCRIPTION:Help us make Downtown festive for the Holidays. The Decorate a Planter Contest theme this year is “Let Rudy Light the Way Downtown” so your decoration has to include a reindeer ! Judging happens on Saturday morning Nov. 19th. 1st place gets $200\, 2nd $150\, People’s Choice via Facebook gets $125. Email or call to get a planter assignment! nancy@spencermainstreet.com or 262-7246.
URL:https://spencermainstreet.com/event/decorate-a-planter-contest-5/
ATTACH;FMTTYPE=image/png:https://spencermainstreet.com/wp-content/uploads/2022/10/Rudy-Planter-Contest-2022.png
END:VEVENT
END:VCALENDAR