BEGIN:VCALENDAR
VERSION:2.0
PRODID:-//Spencer Main Street - ECPv6.15.20//NONSGML v1.0//EN
CALSCALE:GREGORIAN
METHOD:PUBLISH
X-WR-CALNAME:Spencer Main Street
X-ORIGINAL-URL:https://spencermainstreet.com
X-WR-CALDESC:Events for Spencer Main Street
REFRESH-INTERVAL;VALUE=DURATION:PT1H
X-Robots-Tag:noindex
X-PUBLISHED-TTL:PT1H
BEGIN:VTIMEZONE
TZID:America/Chicago
BEGIN:DAYLIGHT
TZOFFSETFROM:-0600
TZOFFSETTO:-0500
TZNAME:CDT
DTSTART:20210314T080000
END:DAYLIGHT
BEGIN:STANDARD
TZOFFSETFROM:-0500
TZOFFSETTO:-0600
TZNAME:CST
DTSTART:20211107T070000
END:STANDARD
BEGIN:DAYLIGHT
TZOFFSETFROM:-0600
TZOFFSETTO:-0500
TZNAME:CDT
DTSTART:20220313T080000
END:DAYLIGHT
BEGIN:STANDARD
TZOFFSETFROM:-0500
TZOFFSETTO:-0600
TZNAME:CST
DTSTART:20221106T070000
END:STANDARD
BEGIN:DAYLIGHT
TZOFFSETFROM:-0600
TZOFFSETTO:-0500
TZNAME:CDT
DTSTART:20230312T080000
END:DAYLIGHT
BEGIN:STANDARD
TZOFFSETFROM:-0500
TZOFFSETTO:-0600
TZNAME:CST
DTSTART:20231105T070000
END:STANDARD
END:VTIMEZONE
BEGIN:VEVENT
DTSTART;TZID=America/Chicago:20221222T170000
DTEND;TZID=America/Chicago:20221222T190000
DTSTAMP:20260425T163602
CREATED:20221116T152832Z
LAST-MODIFIED:20221116T152832Z
UID:1132-1671728400-1671735600@spencermainstreet.com
SUMMARY:Main Street Men's Night
DESCRIPTION:The Spencer Main Street elves are helping men do their Christmas Shopping downtown. Let’s meet at the Iowa Project on Thursday Dec. 22nd at 5:00 for a beer and then we will split up and go shopping around 5:30! Kids are welcome too. We will even help wrap!
URL:https://spencermainstreet.com/event/main-street-mens-night/
ATTACH;FMTTYPE=image/png:https://spencermainstreet.com/wp-content/uploads/2022/11/Main-Street-Mens-Night.png
END:VEVENT
END:VCALENDAR