BEGIN:VCALENDAR
VERSION:2.0
PRODID:-//Spencer Main Street - ECPv6.15.20//NONSGML v1.0//EN
CALSCALE:GREGORIAN
METHOD:PUBLISH
X-ORIGINAL-URL:https://spencermainstreet.com
X-WR-CALDESC:Events for Spencer Main Street
REFRESH-INTERVAL;VALUE=DURATION:PT1H
X-Robots-Tag:noindex
X-PUBLISHED-TTL:PT1H
BEGIN:VTIMEZONE
TZID:America/Chicago
BEGIN:DAYLIGHT
TZOFFSETFROM:-0600
TZOFFSETTO:-0500
TZNAME:CDT
DTSTART:20220313T080000
END:DAYLIGHT
BEGIN:STANDARD
TZOFFSETFROM:-0500
TZOFFSETTO:-0600
TZNAME:CST
DTSTART:20221106T070000
END:STANDARD
BEGIN:DAYLIGHT
TZOFFSETFROM:-0600
TZOFFSETTO:-0500
TZNAME:CDT
DTSTART:20230312T080000
END:DAYLIGHT
BEGIN:STANDARD
TZOFFSETFROM:-0500
TZOFFSETTO:-0600
TZNAME:CST
DTSTART:20231105T070000
END:STANDARD
BEGIN:DAYLIGHT
TZOFFSETFROM:-0600
TZOFFSETTO:-0500
TZNAME:CDT
DTSTART:20240310T080000
END:DAYLIGHT
BEGIN:STANDARD
TZOFFSETFROM:-0500
TZOFFSETTO:-0600
TZNAME:CST
DTSTART:20241103T070000
END:STANDARD
END:VTIMEZONE
BEGIN:VEVENT
DTSTART;TZID=America/Chicago:20230408T130000
DTEND;TZID=America/Chicago:20230408T170000
DTSTAMP:20260425T054145
CREATED:20230303T204455Z
LAST-MODIFIED:20230303T210946Z
UID:1164-1680958800-1680973200@spencermainstreet.com
SUMMARY:Masters on Main Street
DESCRIPTION:We hope you get your friends together and join us for our free putt-putt bar crawl on Grand Avenue Saturday\, April 8th from 1-5~ the weekend of the Masters Golf Tournament. You can pick up your scorecards at Century Farms\, Sneakers or 5:13 and then hit the putting greens at all the bars on Grand (Century Farms\, Sneaker’s\, Weasy’s\, Iowa Project\, 5:13 and Silver Hammer. We will meet back for prizes at 5:00 at The Iowa Project. Get a hole in one\, get a prize! There is also a prize for the best costume! Each bar will have putters and golf balls.
URL:https://spencermainstreet.com/event/masters-on-main-street-2/
ATTACH;FMTTYPE=image/png:https://spencermainstreet.com/wp-content/uploads/2022/02/Masters-on-Main-Street-Logo.png
END:VEVENT
END:VCALENDAR