BEGIN:VCALENDAR
VERSION:2.0
PRODID:-//Spencer Main Street - ECPv6.15.20//NONSGML v1.0//EN
CALSCALE:GREGORIAN
METHOD:PUBLISH
X-WR-CALNAME:Spencer Main Street
X-ORIGINAL-URL:https://spencermainstreet.com
X-WR-CALDESC:Events for Spencer Main Street
REFRESH-INTERVAL;VALUE=DURATION:PT1H
X-Robots-Tag:noindex
X-PUBLISHED-TTL:PT1H
BEGIN:VTIMEZONE
TZID:America/Chicago
BEGIN:DAYLIGHT
TZOFFSETFROM:-0600
TZOFFSETTO:-0500
TZNAME:CDT
DTSTART:20250309T080000
END:DAYLIGHT
BEGIN:STANDARD
TZOFFSETFROM:-0500
TZOFFSETTO:-0600
TZNAME:CST
DTSTART:20251102T070000
END:STANDARD
BEGIN:DAYLIGHT
TZOFFSETFROM:-0600
TZOFFSETTO:-0500
TZNAME:CDT
DTSTART:20260308T080000
END:DAYLIGHT
BEGIN:STANDARD
TZOFFSETFROM:-0500
TZOFFSETTO:-0600
TZNAME:CST
DTSTART:20261101T070000
END:STANDARD
BEGIN:DAYLIGHT
TZOFFSETFROM:-0600
TZOFFSETTO:-0500
TZNAME:CDT
DTSTART:20270314T080000
END:DAYLIGHT
BEGIN:STANDARD
TZOFFSETFROM:-0500
TZOFFSETTO:-0600
TZNAME:CST
DTSTART:20271107T070000
END:STANDARD
END:VTIMEZONE
BEGIN:VEVENT
DTSTART;TZID=America/Chicago:20260207T110000
DTEND;TZID=America/Chicago:20260207T130000
DTSTAMP:20260424T114628
CREATED:20250113T220357Z
LAST-MODIFIED:20260128T163508Z
UID:259345-1770462000-1770469200@spencermainstreet.com
SUMMARY:Chocolate Walk
DESCRIPTION:Spencer Main Street invites you to the sweetest event of the year! Our chocolate walk is on Febuary 7th starting at Nelson Jewerly. Come in and get your passport from 11-1 and then enjoy sweet treats up and down Grand Avenue while you shop for your sweetheart! The cost is $10 for adults\, $5 for kids\, 5 and under are free. Go to 10 spots and be entered to win our Grand Prize for a $25 gift card to use downtown or a free heart and vascular screening to Spencer Hospial’s Planet Heart! We ask you to please be respectful to the business owner and DON’T bring a to-go container. Thank you. To preregister go HERE.
URL:https://spencermainstreet.com/event/chocolate-walk-4/
ATTACH;FMTTYPE=image/png:https://spencermainstreet.com/wp-content/uploads/2025/01/Chocolate-Walk.png
END:VEVENT
END:VCALENDAR