BEGIN:VCALENDAR
VERSION:2.0
PRODID:-//Spencer Main Street - ECPv6.15.20//NONSGML v1.0//EN
CALSCALE:GREGORIAN
METHOD:PUBLISH
X-ORIGINAL-URL:https://spencermainstreet.com
X-WR-CALDESC:Events for Spencer Main Street
REFRESH-INTERVAL;VALUE=DURATION:PT1H
X-Robots-Tag:noindex
X-PUBLISHED-TTL:PT1H
BEGIN:VTIMEZONE
TZID:America/Chicago
BEGIN:DAYLIGHT
TZOFFSETFROM:-0600
TZOFFSETTO:-0500
TZNAME:CDT
DTSTART:20220313T080000
END:DAYLIGHT
BEGIN:STANDARD
TZOFFSETFROM:-0500
TZOFFSETTO:-0600
TZNAME:CST
DTSTART:20221106T070000
END:STANDARD
BEGIN:DAYLIGHT
TZOFFSETFROM:-0600
TZOFFSETTO:-0500
TZNAME:CDT
DTSTART:20230312T080000
END:DAYLIGHT
BEGIN:STANDARD
TZOFFSETFROM:-0500
TZOFFSETTO:-0600
TZNAME:CST
DTSTART:20231105T070000
END:STANDARD
BEGIN:DAYLIGHT
TZOFFSETFROM:-0600
TZOFFSETTO:-0500
TZNAME:CDT
DTSTART:20240310T080000
END:DAYLIGHT
BEGIN:STANDARD
TZOFFSETFROM:-0500
TZOFFSETTO:-0600
TZNAME:CST
DTSTART:20241103T070000
END:STANDARD
END:VTIMEZONE
BEGIN:VEVENT
DTSTART;TZID=America/Chicago:20230707T170000
DTEND;TZID=America/Chicago:20230707T190000
DTSTAMP:20260421T065315
CREATED:20230626T151802Z
LAST-MODIFIED:20230626T151802Z
UID:1204-1688749200-1688756400@spencermainstreet.com
SUMMARY:First Fridays
DESCRIPTION:Join us for our First Fridays event outside at Kings Steakhouse and Bar the first Friday on the summer months. July 7th is sponosred by Nelson Jewelry and will feature live music from Ryan Sather\, complimentary appetizers and outside games. Fun for the whole family. Grab a lawn chair and enjoy the gorgeous view from 5-7pm.
URL:https://spencermainstreet.com/event/first-fridays-2/
ATTACH;FMTTYPE=image/png:https://spencermainstreet.com/wp-content/uploads/2023/06/First-Fridays-NelsonJewelry.png
END:VEVENT
BEGIN:VEVENT
DTSTART;TZID=America/Chicago:20230720T170000
DTEND;TZID=America/Chicago:20230817T200000
DTSTAMP:20260421T065315
CREATED:20230626T150132Z
LAST-MODIFIED:20230627T202717Z
UID:1199-1689872400-1692302400@spencermainstreet.com
SUMMARY:Main Street Market
DESCRIPTION:  \nBrought to by Spencer Art Alliance and Spencer Main Street on the Clay County Courthouse Lawn \nJuly 20\, 27\nAug.  3\,10\,17\n5-8pm Live music every Thursday at 6p \nClick on the picture for the band details. \nWe will also have a non-profit organization serving a meal each week! \nWant to be a vendor? Contact Jim Schooley  (712) 580-8623 \n 
URL:https://spencermainstreet.com/event/main-street-market-4/
ATTACH;FMTTYPE=image/jpeg:https://spencermainstreet.com/wp-content/uploads/2023/06/Main-Street-Market-Poster.jpg
END:VEVENT
BEGIN:VEVENT
DTSTART;TZID=America/Chicago:20230727T070000
DTEND;TZID=America/Chicago:20230729T190000
DTSTAMP:20260421T065315
CREATED:20230626T155025Z
LAST-MODIFIED:20230626T155044Z
UID:1210-1690441200-1690657200@spencermainstreet.com
SUMMARY:Crazy Days
DESCRIPTION:Join us downtown for 3 days of sidewalk specials and inside deals. Don’t forget to grab a bite to eat or sip on your favorite beverages while you are on Grand. July 27-29th! Store hours vary from business to business!
URL:https://spencermainstreet.com/event/crazy-days/
ATTACH;FMTTYPE=image/png:https://spencermainstreet.com/wp-content/uploads/2022/05/Crazy-Days-2022.png
END:VEVENT
END:VCALENDAR