BEGIN:VCALENDAR
VERSION:2.0
PRODID:-//Spencer Main Street - ECPv6.15.20//NONSGML v1.0//EN
CALSCALE:GREGORIAN
METHOD:PUBLISH
X-WR-CALNAME:Spencer Main Street
X-ORIGINAL-URL:https://spencermainstreet.com
X-WR-CALDESC:Events for Spencer Main Street
REFRESH-INTERVAL;VALUE=DURATION:PT1H
X-Robots-Tag:noindex
X-PUBLISHED-TTL:PT1H
BEGIN:VTIMEZONE
TZID:America/Chicago
BEGIN:DAYLIGHT
TZOFFSETFROM:-0600
TZOFFSETTO:-0500
TZNAME:CDT
DTSTART:20180311T080000
END:DAYLIGHT
BEGIN:STANDARD
TZOFFSETFROM:-0500
TZOFFSETTO:-0600
TZNAME:CST
DTSTART:20181104T070000
END:STANDARD
BEGIN:DAYLIGHT
TZOFFSETFROM:-0600
TZOFFSETTO:-0500
TZNAME:CDT
DTSTART:20190310T080000
END:DAYLIGHT
BEGIN:STANDARD
TZOFFSETFROM:-0500
TZOFFSETTO:-0600
TZNAME:CST
DTSTART:20191103T070000
END:STANDARD
BEGIN:DAYLIGHT
TZOFFSETFROM:-0600
TZOFFSETTO:-0500
TZNAME:CDT
DTSTART:20200308T080000
END:DAYLIGHT
BEGIN:STANDARD
TZOFFSETFROM:-0500
TZOFFSETTO:-0600
TZNAME:CST
DTSTART:20201101T070000
END:STANDARD
END:VTIMEZONE
BEGIN:VEVENT
DTSTART;VALUE=DATE:20190725
DTEND;VALUE=DATE:20190728
DTSTAMP:20260422T085318
CREATED:20180405T220757Z
LAST-MODIFIED:20190628T195724Z
UID:416-1564012800-1564271999@spencermainstreet.com
SUMMARY:Downtown Crazy Days
DESCRIPTION:Get ready to shop til you drop from July 25th -July 27th in downtown Spencer! While you’re shopping\, Main Street Volunteers will be handing out water to keep you hydrated! (We don’t really want you to drop) Plus this year you can enjoy a cocktail and bite outside at 2 different Sidewalk Cafes at Weasy’s or Taqueria el Tapatio.
URL:https://spencermainstreet.com/event/downtown-crazy-days/
ATTACH;FMTTYPE=image/jpeg:https://spencermainstreet.com/wp-content/uploads/2018/04/crazy-days-2018.jpg
END:VEVENT
END:VCALENDAR